Workbook

Sheet 計画書（表紙）
Q1: ※以降の列は非表示
B2: 太陽光発電設備設置等計画書
J4: 2028 | K4: 年 | L4: 4 | M4: 月 | N4: 20 | O4: 日
A5: （あて先）仙台市長 | O5: =IF(T2="未選択","セルC2にて報告年度が選択されていません。選択してください。", IF(T3="空欄あり","入力シート（第"&DBCS(T2)&"年度報告書）の提出日に空欄があります。ご確認ください。",""))
G7: 住所 | I7: =IF(D17="","",D17) -> 仙台市青葉区国分町〇丁目〇ー〇
G8: 氏名 | I8: =IF(D15="","",D15) -> 〇〇不動産
I9: =IF(D16="","",D16) -> 代表取締役社長 〇〇 〇〇
I10: （法人にあっては、名称および代表者の氏名）
A12: 仙台市地球温暖化対策等の推進に関する条例第24条第1項（第26条第1項）の規定により、 次のとおり提出します。
A14: １ 特定建築主（一般建築主等）の氏名および住所
A15: 名称 | D15: 〇〇不動産
A16: 代表者氏名 | D16: 代表取締役社長 〇〇 〇〇
A17: 主たる事務所の所在地 | D17: 仙台市青葉区国分町〇丁目〇ー〇
A18: 連絡先等 | D18: 担当者（部署名・氏名） | I18: 開発課 〇〇 〇〇
D19: 電話番号 | I19: 022-214-99××
D20: メールアドレス | I20: estate@〇〇.jp
A22: ２ 大規模特定建築物の名称、所在地
A23: 名称 | D23: 〇〇プロジェクト計画 | Q23: 計算用
A24: 所在地 | D24: 仙台市青葉区中央〇丁目〇ー〇 | Q24: 都市再生緊急整備地域内
E25: 都市再生緊急整備地域内 | Q25: TRUE
D26: ※都市再生緊急整備地域内の場合はチェックを入れてください。
D27: （整備地域の具体的な場所はこちらをご覧ください）
A29: ３ 大規模特定建築物の概要
A30: 工事種別 | E30: 新築 | I30: 改築 | L30: 増築
A31: 建築面積 | D31: 2500 | H31: (増築又は改築の場合は、当該増築又は改築に係る部分の面積)
A32: 延べ面積 | D32: 12000 | H32: (増築又は改築の場合は、当該増築又は改築に係る部分の面積) | Q32: 住宅 | R32: 非住宅 | S32: 複合建築物 | T32: 建築物の用途
A33: 建築物の用途 | E33: 住宅 | I33: 非住宅 | L33: 複合建築物（住宅＋非住宅） | Q33: FALSE | R33: FALSE | S33: TRUE | T33: =IF(Q33,"住宅",IF(R33,"非住宅",IF(S33,"複合建築物（住宅＋非住宅）",""))) -> 複合建築物（住宅＋非住宅）
A34: 非住宅部分の主な用途 (リストから選択） | E34: 事務所等
A35: 工事期間（予定） | D35: 工事着手 | F35: 47027 | J35: 工事完了 | L35: 47604
A37: ４ 太陽光発電設備の設置基準に対する適合状況
B38: 別紙１のとおり
A40: ５ 太陽光発電設備の設置に代わる措置の実施状況
B41: 別紙１のとおり
A43: ６ 省エネルギー性能基準に対する適合状況
B44: 別紙２のとおり
A46: ７ その他市長が必要と認める事項
B47: 別紙３のとおり

Sheet 別紙１(太陽光発電)入力シート
A1: （別紙１）太陽光発電設備の設置基準に対する適合状況
A2: １ 設置基準の算定
B3: 建築面積 （A) | C3: 建築面積×0.05 （B=A×0.05） | D3: 建築面積から太陽光発電設備の設置が困難な部分を除いた面積 （C=A-D) | E3: 太陽光発電設備の設置が困難な部分の面積（D) ※B≦Cの場合は記載不要 | K3: （B)または（C)のいずれか小さい方の面積（E) | L3: 設置基準量 （算定値） (E×0.15kW/㎡) | M3: 設置基準値の 下限値 | N3: 設置基準量の 上限値 | O3: 設置基準 | P3: 誘導基準
E4: ヘリコプターの緊急離着陸場等を設置する部分 | F4: 法令、条例等により緑化する部分 | G4: 日影により十分な発電が見込めない部分 | H4: 建築設備の機能に支障が生じる部分 | I4: 建築設備の維持管理や安全確保に必要な部分 | J4: ３kW以上の太陽光発電を設置するために必要な面積を確保できない部分
B5: =IF('計画書（表紙）'!D31="","",'計画書（表紙）'!D31) -> 2500 | C5: =IF(B5="","",B5*0.05) -> 125 | D5: =IF(B5="","",B5-SUM(E5:J5)) -> 2500 | K5: =IF(B5="","",MIN(C5,D5)) -> 125 | L5: =IF(K5="","",K5*0.15) -> 18.75 | M5: =IF('計画書（表紙）'!$D32="","",IF('計画書（表紙）'!$D32<5000,3,IF('計画書（表紙）'!$D32<10000,6,12))) -> 12 | N5: =IF('計画書（表紙）'!$D32="","",IF('計画書（表紙）'!$D32<5000,9,IF('計画書（表紙）'!$D32<10000,18,36))) -> 36 | O5: =IF(L5="","",ROUNDDOWN(MEDIAN(L5,N5,M5),0)) -> 18 | P5: =O5*2 -> 36
A7: 2 太陽光発電設備等の設置計画 | R7: 計算用
B8: 太陽光発電設備 | E8: 太陽光発電設備の設置に代わる措置 | R8: 太陽光発電設備等の 導入容量 (再エネ調達を除く）
B9: 導入容量 | C9: 導入方法 （任意） | D9: 売電等 （任意） | E9: 風力発電設備 | G9: バイオマス発電設備 | I9: バイオマス熱供給設備 | K9: 太陽熱供給設備 | M9: 地中熱供給設備 | O9: 既存建築物への設置 | P9: 再エネ電気等の調達
E10: 導入容量 | F10: 年間発電電力量 | G10: 導入容量 | H10: 年間発電電力量 | I10: 導入容量 | J10: 年間熱供給量 | K10: 導入容量 | L10: 年間熱供給量 | M10: 導入容量 | N10: 年間熱供給量
B11: 10 | C11: 自己保有 | D11: 全量自家消費 | E11: =IF(F11="","－",ROUNDDOWN(F11/1000,3)) -> － | G11: =IF(H11="","－",ROUNDDOWN(H11/1000,3)) -> － | I11: =IF(J11="","－",ROUNDDOWN(J11/3600,3)) -> － | K11: =IF(L11="","－",ROUNDDOWN(L11/3600,3)) -> － | M11: =IF(N11="","－",ROUNDDOWN(N11/3600,3)) -> 2.5 | N11: 9000 | O11: =IF('別表1（既存建築物）入力シート'!X9="","-",'別表1（既存建築物）入力シート'!X9) -> - | P11: =IF('別表2（再エネ調達）入力シート'!M19="","－",'別表2（再エネ調達）入力シート'!M19) -> 10 | R11: =IF(N5="","",SUM(B11,E11,G11,I11,K11,M11,O11)) -> 12.5
A13: ３ 太陽光発電設備の設置基準に対する適合状況
B14: 太陽光発電設備等の導入容量 （合計） | C14: 設置基準への 適合状況 | D14: 誘導基準の 達成状況
B16: =IF(COUNT(B11,F11,H11,J11,L11,N11,O11,P11)>0,SUM(B11,E11,G11,I11,K11,M11,O11,P11),"") -> 22.5 | C16: =IF(B16="","",IF(B16>=O5,"適合","適合しない")) -> 適合 | D16: =IF(B16="","",IF(B16>=P5,"達成","－")) -> －
B18: ※太陽光発電設備等の設置位置、容量等がわかる図面を添付すること

Sheet 別表1（既存建築物）入力シート
A1: （別表１）既存建築物における太陽光発電設備等の設置状況
B3: 建築物の名称 | C3: 所在地 | D3: 所有者（特定建築主と異なる場合） | F3: 所有者の同意 （特定建築主と異なる場合） | H3: 太陽光発電設備等の設置年月日 | I3: 太陽光発電設備 | L3: 太陽光発電設備の設置に代わる措置 | X3: 既存建築物における 太陽光発電設備等の 導入容量
D4: 氏名 | E4: 住所 | I4: 導入容量 | J4: 導入方法 （任意） | K4: 売電等 （任意） | L4: 風力発電設備 | N4: バイオマス発電設備 | P4: バイオマス熱供給設備 | R4: 太陽熱供給設備 | T4: 地中熱供給設備
L5: 導入容量 | M5: 年間発電電力量 | N5: 導入容量 | O5: 年間発電電力量 | P5: 導入容量 | Q5: 年間熱供給量 | R5: 導入容量 | S5: 年間熱供給量 | T5: 導入容量 | U5: 年間熱供給量
B6: 〇〇ビルディング | C6: 仙台市青葉区中央〇丁目〇ー〇 | G6: 所有者の同意を得ている | L6: =IF(M6="","－",ROUNDDOWN(M6/1000,3)) -> － | N6: =IF(O6="","－",ROUNDDOWN(O6/1000,3)) -> － | P6: =IF(Q6="","－",ROUNDDOWN(Q6/3600,3)) -> － | R6: =IF(S6="","－",ROUNDDOWN(S6/3600,3)) -> － | T6: =IF(U6="","－",ROUNDDOWN(U6/3600,3)) -> － | X6: =IF(COUNT(I6,M6,O6,Q6,S6,U6)=0,"",SUM(I6,L6,N6,P6,R6,T6))
G7: 所有者の同意を得ている | L7: =IF(M7="","－",ROUNDDOWN(M7/1000,3)) -> － | N7: =IF(O7="","－",ROUNDDOWN(O7/1000,3)) -> － | P7: =IF(Q7="","－",ROUNDDOWN(Q7/3600,3)) -> － | R7: =IF(S7="","－",ROUNDDOWN(S7/3600,3)) -> － | T7: =IF(U7="","－",ROUNDDOWN(U7/3600,3)) -> － | X7: =IF(COUNT(I7,M7,O7,Q7,S7,U7)=0,"",SUM(I7,L7,N7,P7,R7,T7))
G8: 所有者の同意を得ている | L8: =IF(M8="","－",ROUNDDOWN(M8/1000,3)) -> － | N8: =IF(O8="","－",ROUNDDOWN(O8/1000,3)) -> － | P8: =IF(Q8="","－",ROUNDDOWN(Q8/3600,3)) -> － | R8: =IF(S8="","－",ROUNDDOWN(S8/3600,3)) -> － | T8: =IF(U8="","－",ROUNDDOWN(U8/3600,3)) -> － | X8: =IF(COUNT(I8,M8,O8,Q8,S8,U8)=0,"",SUM(I8,L8,N8,P8,R8,T8))
X9: =IF(COUNT(X6:X8)=0,"",SUM(X6:X8))
B10: ※太陽光発電設備等の設置位置、容量等がわかる図面を添付すること

Sheet 別表2（再エネ調達）入力シート
A1: （別表2）再生可能エネルギーを利用する設備で発電された電気の調達その他の措置の状況
A3: 1 太陽光発電設備等の設置が困難な理由
B4: 設置が困難な理由 | E4: 太陽光発電設備の設置が物理的に困難 （建築物の高さが60ｍ超）
B5: 「その他」を選択した場合は 具体的な理由を記載して下さい
A7: 2 調達が必要な電力量および再エネ割合
B8: 調達する 再エネ電気・証書の 利用先 | E8: 大規模特定建築物における電気の使用量(A) | G8: 再エネ電気等の調達が必要な電力量 | J8: 発電電力に占める 再エネ比率 （全国）※ （E) | K8: 必要な 再エネ割合 （F=D/A+E）
E9: 建築物全体 | F9: 共用部等 | G9: 設置基準 (B) | H9: 太陽光発電設備等の 導入量(C） | I9: 調達が必要な電力量 D=(B-C)×1,000kWh/kW
B10: 共用部等 （建築物の一部に供給） | E10: 100000 | F10: 20000 | G10: =IF(E4="","",'別紙１(太陽光発電)入力シート'!O5) -> 18 | H10: =IF(E4="","",'別紙１(太陽光発電)入力シート'!R11) -> 12.5 | I10: =IF(G10="","",(G10-H10)*1000) -> 5500 | J10: 0.231 | K10: =IF(B10="","", IF(ISNUMBER(SEARCH("建築物全体",B10)), IF(E10="","",MIN(1,I10/E10+J10)), IF(ISNUMBER(SEARCH("共用部等",B10)), IF(F10="","",MIN(1,I10/F10+J10)), "" ) ) ) -> 0.506
I11: ※令和6年度（2024年度）エネルギー需給実績（確報）（資源エネルギー庁）
A12: ３ 調達予定の再エネ電気・証書 | M12: 計算用
A13: （１）継続性の確認 | M13: 継続性の確認
B14: 再エネ電気又は再エネ証書の調達若しくはその両方を20年以上取り組む計画である | M14: TRUE
A16: （２）再エネ電気の調達 | M16: 太陽光発電設備等の 導入相当量
B17: 小売電気事業者の名称 （一括受電方式又はオフサイトPPAの場合は当該事業者の名称） | E17: 電力契約 メニュー名 | F17: 再エネ割合（G) | H17: 年間調達予定量 (H) | I17: 年間調達予定量のうち再エネ電力量 (I=G×H) | J17: 太陽光発電設備の 導入相当量 （I÷1,000kWh/kW)
G18: 基準への適合 (G≧Fで適合）
B19: ●●電力（株） | E19: 〇〇プラン | F19: 1 | G19: =IF(F19="","",IF(F19<K10,"適合しない","適合")) -> 適合 | H19: 8000 | I19: =IF(M14,IF(OR(F19="",H19=""),"",F19*H19),"") -> 8000 | J19: =IF(I19="","",I19/1000) -> 8 | M19: =IF(COUNT(J19,H24)=0,"",SUM(J19,H24)) -> 10
A21: （３）再エネ証書の調達
B22: 調達予定事業者の名称 | E22: 証書の種類 | F22: 年間調達予定量 | G22: 年間調達予定量 （合計） (J) | H22: 太陽光発電設備の 導入相当量 （J÷1,000kWh/kW)
B24: ●●電力（株） | E24: 非化石証書（FIT) | F24: 2000 | G24: =IF(M14,IF(F24="","",SUM(F24:F26)),"") -> 2000 | H24: =IF(G24="","",G24/1000) -> 2
B28: ※再エネ電気または証書の内容、調達期間等が確認できる書類を添付すること

Sheet 別紙2（省エネ・断熱性能）入力シート
A1: （別紙２）省エネルギー性能基準に対する適合状況 | O1: ※以降の列は非表示
A2: （１）住宅
B3: 省エネ性能 | F3: 断熱性能 | J3: 基準への 適合状況 | O3: 建築物の用途 | Q3: 都市再生緊急整備地域内
B4: 住宅BEI | C4: 誘導 仕様基準 | D4: 省エネ基準(BEI0.8) への適合 | E4: 誘導基準(BEI0.7)の 達成状況 | F4: UA値 | G4: 誘導 仕様基準 | H4: 断熱基準 (UA値0.6） への適合 | I4: 誘導基準 （UA値0.48）の 達成状況
B5: 0.7 | D5: =IF(AND(B5="",C5=""),"", IF(AND(B5<=0.8,C5=""),"適合", IF(AND(B5="",C5="〇"),"適合", IF(AND(B5>0.8,C5=""),"適合しない","")))) -> 適合 | E5: =IF(AND(B5="",C5=""),"", IF(AND(B5<=0.7,C5=""),"達成", IF(AND(B5="",C5="〇"),"ー", IF(AND(B5>0.7,C5=""),"ー","")))) -> 達成 | F5: 0.45 | H5: =IF(AND(F5="",G5=""),"", IF(AND(F5<=0.6,G5=""),"適合", IF(AND(F5="",G5="〇"),"適合", IF(AND(F5>0.6,G5=""),"適合しない","")))) -> 適合 | I5: =IF(AND(F5="",G5=""),"", IF(AND(F5<=0.48,G5=""),"達成", IF(AND(F5="",G5="〇"),"ー", IF(AND(F5>0.48,G5=""),"ー","")))) -> 達成 | J5: =IF(AND(D5="適合",H5="適合"),"適合","") -> 適合 | O5: ='計画書（表紙）'!T33 -> 複合建築物（住宅＋非住宅） | Q5: =IF(OR('計画書（表紙）'!Q25="",'計画書（表紙）'!Q25=FALSE),"","〇") -> 〇
A7: （２）非住宅
B8: 省エネ性能 | D8: 基準への 適合状況 | E8: 誘導基準の 達成状況 (都市再生緊急整備地域内)
B9: 非住宅BEI
B10: 設計値 | C10: 基準値
B11: 0.49 | C11: 0.69 | D11: =IF(OR(B11="",C11=""),"",IF(B11<=C11,"適合","適合しない")) -> 適合 | E11: =IF(Q5="","", IF(Q5="〇", IF(B11="","", IF(B11<=0.5,"達成","－") ), "") ) -> 達成
A13: （３）複合建築物（住宅＋非住宅）
B14: 省エネ性能 | H14: 断熱性能 （住宅部分） | J14: 基準への適合 | K14: 誘導基準の 達成状況 (都市再生緊急整備地域内) | O14: 基準値との比較 | S14: 誘導基準との比較
B15: 住宅、非住宅それぞれで評価する場合 | F15: 住宅＋非住宅で 一体的に評価する場合 | O15: 【住宅部分】 省エネ基準 への適合 | P15: 【非住宅部分】 省エネ基準 への適合 | Q15: 省エネ基準への適合 | R15: 断熱基準への適合 | S15: 【住宅部分】 省エネ誘導基準の達成状況 | T15: 【非住宅部分】 省エネ誘導基準の達成状況 | U15: 省エネ誘導基準の達成状況 | V15: 断熱の誘導基準の達成状況
B16: 【住宅部分】 | D16: 【非住宅部分】
B17: 住宅BEI | C17: 誘導 仕様基準 | D17: 非住宅BEI | F17: 基準一次エネルギー消費量 | H17: UA値 | I17: 誘導 仕様基準
D18: 設計値 | E18: 基準値 | F18: 設計値 | G18: 基準値
B19: 0.7 | D19: 0.49 | E19: 0.7 | H19: 0.58 | J19: =IF(OR(Q19="",R19=""),"",IF(OR(Q19="適合しない",R19="適合しない"),"適合しない",IF(AND(Q19="適合",R19="適合"),"適合",""))) -> 適合 | K19: =IF(Q5="〇",IF(AND(U19="達成",V19="達成"),"達成","－"),"") -> 達成 | O19: =IF(AND(B19="",C19=""),"", IF(OR(AND(B19<=0.8,C19=""), AND(B19="",C19="〇"), AND(B19<=0.8,C19="〇")),"適合", IF(B19>0.8,"適合しない",""))) -> 適合 | P19: =IF(OR(D19="",E19=""),"",IF(D19<=E19,"適合","適合しない")) -> 適合 | Q19: =IF(AND(OR(LEN(O19)=0,LEN(P19)=0),OR(LEN(G19)=0,LEN(F19)=0)),"", IF(AND(G19<>"",F19<>"",F19<=G19),"適合", IF(AND(O19="適合",P19="適合"),"適合","適合しない"))) -> 適合 | R19: =IF(AND(H19="",I19=""),"", IF(OR(AND(H19<=0.6,I19=""), AND(H19="",I19="〇"), AND(H19<=0.6,I19="〇")),"適合", IF(H19>0.6,"適合しない",""))) -> 適合 | S19: =IF(Q5="","",IF(Q5="〇",IF(B19="","",IF(B19<=0.7,"達成","－")),"")) -> 達成 | T19: =IF(Q5="","",IF(Q5="〇",IF(D19="","",IF(D19<=0.5,"達成","－")),"")) -> 達成 | U19: =IF(Q5="〇",IF(AND(S19="達成",T19="達成"),"達成","－"),"") -> 達成 | V19: =IF(Q5="","",IF(Q5="〇",IF(D19="","",IF(D19<=0.5,"達成","－")),"")) -> 達成

Sheet 別紙3（その他)入力シート
I1: （別紙３）
A2: １ 安全安心な太陽光発電設備の設置に関する指針の遵守状況
B4: 条例第27条の規定による「安全安心な太陽光発電設備の設置に関する指針」に基づき、次の遵守事項を満たした太陽光発電設備を設置していることを報告します。
C5: 遵守事項 | G5: 対応状況
B6: 1 | C6: 日本産業規格又はこれと同等以上の規格に適合したものであること。 | G6: 遵守している
B7: 2 | C7: 「使用済太陽電池モジュールの適正処理に資する情報提供のガイドライン」（平成29年12月一般社団法人太陽光発電協会）に規定された化学物質の含有率基準値を満たしたものであること。 | G7: 遵守している
B8: 3 | C8: 国等が求めるサイバーセキュリティ対策が講じられたものであること。 | G8: 遵守している
B9: 4 | C9: 「責任あるサプライチェーン等における人権尊重のためのガイドライン」（令和４年９月ビジネスと人権に関する行動計画の実施に係る関係府省庁施策推進・連絡会議）を遵守して調達されたものであること。 | G9: 遵守している
A12: ２ その他の環境配慮の取組状況
C14: 項目 | E14: 取り組み例 | G14: 実施状況
B15: 1 | C15: パッシブデザインの積極的な採用 | E15: 日射遮蔽・日射取得、自然通風、昼光利用などを積極的に取り入れ、設備への依存を抑えた建築計画とする | G15: 実施
B16: 2 | C16: 気密性や外皮性能の向上 | E16: 気密性や断熱性等の外皮性能の向上を図り、建築物の環境負荷低減に取り組む | G16: 実施
B17: 3 | C17: 地域産木材の積極利用 | E17: 構造材や内装材に地域産の木材を優先的に使用する | G17: 実施
B18: 4 | C18: エネルギーマネジメントシステムの導入 | E18: BEMSやHEMS等のエネルギーマネジメントを導入し、エネルギー使用量の見える化と効率的な運用を促進する | G18: 実施
B19: 5 | C19: 蓄電池やV2Xの導入 | E19: 蓄電池やV2Xを導入し、太陽光発電で発電した電力を有効活用するとともに、災害時のレジリエンス向上を図る | G19: 実施
B20: 6 | C20: リサイクル材・再生資材の積極利用 | E20: 再生建材やリサイクル資材を優先的に採用し、資源の有効利用を図る | G20: 未実施
B21: 7 | C21: 建設時のCO２排出量の把握・削減 | E21: 建材製造から施工までのCO2排出量の把握に努めるとともに、低炭素建材の利用などにより排出削減に取り組む。 | G21: 未実施
B22: 8 | C22: 長寿命化設計の推進 | E22: 長期優良住宅の認定取得や維持管理対策等級の向上、将来の改修や更新のしやすさに配慮した設計を行う。 | G22: 実施
B23: 9 | C23: 生物多様性に配慮した植栽の実施 | E23: 生物多様性の確保や景観形成に配慮し、在来種や地域の風土に適した植栽を行う。 | G23: 実施
B24: 10 | C24: 雨水流出抑制対策の実施 | E24: 雨水浸透設備や透水性舗装の導入、植栽などにより、雨水流出を抑制する。 | G24: 実施
B25: 11 | C25: その他（ご自由に記入ください）
B26: （記載欄）

Sheet 【暫定】公表用シート（自動入力)
A1: （１）住宅 | Z1: ※以降の列は非表示
B2: 建築物の名称 | C2: 所在地 | D2: 建築主 | E2: 区分 | F2: 延べ面積 | G2: 主な用途 | H2: 工事完了予定年月 | I2: 太陽光発電設備等の導入状況 | L2: 省エネ性能 | N2: 断熱性能 | Q2: 基準への 適合 | S2: その他環境配慮の取組状況 | Z2: 建築物の用途 | AA2: 非住宅部分の用途 | AB2: 都市再生緊急整備地域内
I3: 導入量 | K3: 設置基準 | L3: 住宅BEI | N3: UA値
B4: =IF(Z4="住宅",'計画書（表紙）'!D23,"") | C4: =IF(Z4="住宅",'計画書（表紙）'!D24,"") | D4: =IF(Z4="住宅",'計画書（表紙）'!D15&CHAR(10)&'計画書（表紙）'!D16,"") | E4: =IF(Z4="住宅",IF('計画書（表紙）'!$D$32>=2000,"特定建築主","一般建築主等（任意参加）"),"") | F4: =IF(Z4="住宅",'計画書（表紙）'!D32,"") | G4: 住宅 | H4: =IF(Z4="住宅",TEXT('計画書（表紙）'!L35,"yyyy.mm"),"") | I4: =IF(Z4="住宅",IF('別紙１(太陽光発電)入力シート'!B16="","",IF('別紙１(太陽光発電)入力シート'!D16="達成","★","")),"") | J4: =IF(Z4="住宅",IF('別紙１(太陽光発電)入力シート'!B16="","",'別紙１(太陽光発電)入力シート'!B16),"") | K4: =IF(Z4="住宅",IF('別紙１(太陽光発電)入力シート'!O5="","",'別紙１(太陽光発電)入力シート'!O5),"") | L4: =IF(Z4="住宅",IF('別紙2（省エネ・断熱性能）入力シート'!E5="達成","★",""),"") | M4: =IF(Z4="住宅", IF(AND('別紙2（省エネ・断熱性能）入力シート'!B5="",'別紙2（省エネ・断熱性能）入力シート'!C5=""),"", IF('別紙2（省エネ・断熱性能）入力シート'!B5="", IF('別紙2（省エネ・断熱性能）入力シート'!C5="〇",0.8,""), '別紙2（省エネ・断熱性能）入力シート'!B5)), "") | N4: =IF(Z4="住宅",IF('別紙2（省エネ・断熱性能）入力シート'!I5="達成","★",""),"") | O4: =IF(Z4="住宅", IF(AND('別紙2（省エネ・断熱性能）入力シート'!F5="",'別紙2（省エネ・断熱性能）入力シート'!G5=""),"", IF('別紙2（省エネ・断熱性能）入力シート'!F5="", IF('別紙2（省エネ・断熱性能）入力シート'!G5="〇",0.6,""), '別紙2（省エネ・断熱性能）入力シート'!F5)), "") | Q4: =IF(Z4="住宅",'別紙2（省エネ・断熱性能）入力シート'!J5,"") | Z4: ='計画書（表紙）'!T33 -> 複合建築物（住宅＋非住宅） | AA4: =IF('計画書（表紙）'!E34="","",'計画書（表紙）'!E34) -> 事務所等 | AB4: =IF(OR('計画書（表紙）'!Q25="",'計画書（表紙）'!Q25=FALSE),"","〇") -> 〇
A6: （２）非住宅
B7: 建築物の名称 | C7: 所在地 | D7: 建築主 | E7: 区分 | F7: 延べ面積 | G7: 主な用途 | H7: 工事完了予定年月 | I7: 太陽光発電設備等の導入状況 | L7: 省エネ性能 | N7: 基準への 適合 | P7: その他環境配慮の取組状況
I8: 導入量 | K8: 設置基準 | L8: 非住宅BEI
B9: =IF(Z4="非住宅",'計画書（表紙）'!D23,"") | C9: =IF(Z4="非住宅",'計画書（表紙）'!D24,"") | D9: =IF(Z4="非住宅",'計画書（表紙）'!D15&CHAR(10)&'計画書（表紙）'!D16,"") | E9: =IF(Z4="非住宅",IF('計画書（表紙）'!$D$32>=2000,"特定建築主","一般建築主等（任意参加）"),"") | F9: =IF(Z4="非住宅",'計画書（表紙）'!D32,"") | G9: =IF(Z4="非住宅",AA4,"") | H9: =IF(Z4="非住宅",TEXT('計画書（表紙）'!L35,"yyyy.mm"),"") | I9: =IF(Z4="非住宅",IF('別紙１(太陽光発電)入力シート'!B16="","",IF('別紙１(太陽光発電)入力シート'!D16="達成","★","")),"") | J9: =IF(Z4="非住宅",IF('別紙１(太陽光発電)入力シート'!B16="","",'別紙１(太陽光発電)入力シート'!B16),"") | K9: =IF(Z4="非住宅",IF('別紙１(太陽光発電)入力シート'!O5="","",'別紙１(太陽光発電)入力シート'!O5),"") | L9: =IF(Z4="非住宅",IF('別紙2（省エネ・断熱性能）入力シート'!E11="達成","★",""),"") | M9: =IF(Z4="非住宅",IF('別紙2（省エネ・断熱性能）入力シート'!B11="","",'別紙2（省エネ・断熱性能）入力シート'!B11),"") | N9: =IF(Z4="非住宅",'別紙2（省エネ・断熱性能）入力シート'!#REF!,"")
A11: （３）複合建築物（住宅＋非住宅）
B12: 建築物の名称 | C12: 所在地 | D12: 建築主 | E12: 区分 | F12: 延べ面積 | G12: 主な用途 | H12: 工事完了予定年月 | I12: 太陽光発電設備等の導入状況 | L12: 省エネ性能 | Q12: 断熱性能 | T12: 基準への 適合 | U12: その他環境配慮の取組状況
I13: 導入量 | K13: 設置基準 | L13: 住宅BEI | N13: 非住宅BEI | Q13: UA値 （住宅部分）
B14: =IF(Z4="複合建築物（住宅＋非住宅）",'計画書（表紙）'!D23,"") -> 〇〇プロジェクト計画 | C14: =IF(Z4="複合建築物（住宅＋非住宅）",'計画書（表紙）'!D24,"") -> 仙台市青葉区中央〇丁目〇ー〇 | D14: =IF(Z4="複合建築物（住宅＋非住宅）",'計画書（表紙）'!D15&CHAR(10)&'計画書（表紙）'!D16,"") -> 〇〇不動産 代表取締役社長 〇〇 〇〇 | E14: =IF(Z4="複合建築物（住宅＋非住宅）",IF('計画書（表紙）'!$D$32>=2000,"特定建築主","一般建築主等（任意参加）"),"") -> 特定建築主 | F14: =IF(Z4="複合建築物（住宅＋非住宅）",'計画書（表紙）'!D32,"") -> 12000 | G14: =IF(Z4="複合建築物（住宅＋非住宅）","住宅,"&AA4,"") -> 住宅,事務所等 | H14: =IF(Z4="複合建築物（住宅＋非住宅）",TEXT('計画書（表紙）'!L35,"yyyy.mm"),"") -> 2030.05 | I14: =IF(Z4="複合建築物（住宅＋非住宅）",IF('別紙１(太陽光発電)入力シート'!B16="","",IF('別紙１(太陽光発電)入力シート'!D16="達成","★","")),"") | J14: =IF(Z4="複合建築物（住宅＋非住宅）",IF('別紙１(太陽光発電)入力シート'!B16="","",'別紙１(太陽光発電)入力シート'!B16),"") -> 22.5 | K14: =IF(Z4="複合建築物（住宅＋非住宅）",IF('別紙１(太陽光発電)入力シート'!O5="","",'別紙１(太陽光発電)入力シート'!O5),"") -> 18 | L14: =IF(AND(Z4="複合建築物（住宅＋非住宅）",'別紙2（省エネ・断熱性能）入力シート'!B19<>"",'別紙2（省エネ・断熱性能）入力シート'!B19<=0.7),"★","") -> ★ | M14: =IF(Z4="複合建築物（住宅＋非住宅）", IF(AND('別紙2（省エネ・断熱性能）入力シート'!B19="",'別紙2（省エネ・断熱性能）入力シート'!C19=""),"", IF('別紙2（省エネ・断熱性能）入力シート'!B19="", IF('別紙2（省エネ・断熱性能）入力シート'!C19="〇",0.8,""), '別紙2（省エネ・断熱性能）入力シート'!B19)), "") -> 0.7 | N14: =IF(Z4="複合建築物（住宅＋非住宅）",IF('別紙2（省エネ・断熱性能）入力シート'!T19="達成","★",""),"") -> ★ | O14: =IF(Z4="複合建築物（住宅＋非住宅）",IF('別紙2（省エネ・断熱性能）入力シート'!D19="","",'別紙2（省エネ・断熱性能）入力シート'!D19),"") -> 0.49 | Q14: =IF(AND(Z4="複合建築物（住宅＋非住宅）",'別紙2（省エネ・断熱性能）入力シート'!H19<>"",'別紙2（省エネ・断熱性能）入力シート'!H19<=0.48),"★","") | R14: =IF(Z4="複合建築物（住宅＋非住宅）", IF(AND('別紙2（省エネ・断熱性能）入力シート'!H19="",'別紙2（省エネ・断熱性能）入力シート'!I19=""),"", IF('別紙2（省エネ・断熱性能）入力シート'!H19="", IF('別紙2（省エネ・断熱性能）入力シート'!I19="〇",0.6,""), '別紙2（省エネ・断熱性能）入力シート'!H19)), "") -> 0.58 | T14: =IF(Z4="複合建築物（住宅＋非住宅）",'別紙2（省エネ・断熱性能）入力シート'!J19,"") -> 適合

Sheet マスタ
H1: 省エネ性能 | J1: 断熱性能
A2: 太陽光発電設備 | E2: 調達する 再エネ電気等の 利用先 | F2: 再エネ証書の種別 | H2: 住宅BEI | I2: 誘導 仕様基準 | J2: UA値 | K2: 誘導 仕様基準
A3: 導入容量 | B3: 導入方法 | C3: 売電等
B5: 自己保有 | C5: 余剰売電（FIT） | D5: 太陽光発電設備の設置が物理的に困難 （建築物の高さが60ｍ超） | E5: 建築物全体 （特定建築主による直接契約方式） | F5: 非化石証書（FIT) | I5: 〇 | K5: 〇
B6: リース | C6: 余剰売電（非FIT） | D6: 太陽光発電設備の設置が物理的に困難 （屋根勾配が60度を超える） | E6: 建築物全体 （一括受電方式） | F6: 非化石証書（非FIT・再エネ指定あり）
B7: PPA | C7: 全量売電 | D7: 太陽光発電設備の設置が物理的に困難 （設置基準の下限値相当の設備を設置するために必要な面積を確保できない） | E7: 共用部等 （建築物の一部に供給） | F7: グリーン電力証書
B8: その他 | C8: 全量自家消費 | D8: 系統への接続が困難 （一般配送電事業者から系統連系を認められない） | F8: J-クレジット（再エネ）
C9: その他 | D9: 系統への接続が困難（工事負担金が著しく高額）
D10: その他（詳細は下記のとおり）
A11: 用途
B14: 事務所等 | D14: 遵守している | E14: 実施
B15: 学校等 | E15: 未実施
B16: 工場等
B17: 病院等
B18: 集会所等
B19: ホテル等
B20: 百貨店等
B21: 飲食店等
